BEGIN:VCALENDAR
VERSION:2.0
PRODID:-//RG Zug - ECPv6.14.0//NONSGML v1.0//EN
CALSCALE:GREGORIAN
METHOD:PUBLISH
X-WR-CALNAME:RG Zug
X-ORIGINAL-URL:http://3.79.91.123
X-WR-CALDESC:Events for RG Zug
REFRESH-INTERVAL;VALUE=DURATION:PT1H
X-Robots-Tag:noindex
X-PUBLISHED-TTL:PT1H
BEGIN:VTIMEZONE
TZID:UTC
BEGIN:STANDARD
TZOFFSETFROM:+0000
TZOFFSETTO:+0000
TZNAME:UTC
DTSTART:20260101T000000
END:STANDARD
END:VTIMEZONE
BEGIN:VEVENT
DTSTART;VALUE=DATE:20260328
DTEND;VALUE=DATE:20260329
DTSTAMP:20260419T163502
CREATED:20250703T122411Z
LAST-MODIFIED:20251217T193927Z
UID:4353-1774656000-1774742399@3.79.91.123
SUMMARY:Einzel Juniorinnen P4\, P5\, P6 / Gruppen G1\, G3\, G4 (28-29 March)\, Basel
DESCRIPTION:
URL:http://3.79.91.123/event/einzel-jugend-p2-p3-gruppen-g2/
CATEGORIES:Nationale Wettkämpfe 1. Qualifikation
END:VEVENT
END:VCALENDAR