BEGIN:VCALENDAR
VERSION:2.0
PRODID:-//RG Zug - ECPv6.14.0//NONSGML v1.0//EN
CALSCALE:GREGORIAN
METHOD:PUBLISH
X-WR-CALNAME:RG Zug
X-ORIGINAL-URL:http://3.79.91.123
X-WR-CALDESC:Events for RG Zug
REFRESH-INTERVAL;VALUE=DURATION:PT1H
X-Robots-Tag:noindex
X-PUBLISHED-TTL:PT1H
BEGIN:VTIMEZONE
TZID:Europe/Helsinki
BEGIN:DAYLIGHT
TZOFFSETFROM:+0200
TZOFFSETTO:+0300
TZNAME:EEST
DTSTART:20260329T010000
END:DAYLIGHT
BEGIN:STANDARD
TZOFFSETFROM:+0300
TZOFFSETTO:+0200
TZNAME:EET
DTSTART:20261025T010000
END:STANDARD
END:VTIMEZONE
BEGIN:VTIMEZONE
TZID:UTC
BEGIN:STANDARD
TZOFFSETFROM:+0000
TZOFFSETTO:+0000
TZNAME:UTC
DTSTART:20260101T000000
END:STANDARD
END:VTIMEZONE
BEGIN:VEVENT
DTSTART;TZID=Europe/Helsinki:20260228T080000
DTEND;TZID=Europe/Helsinki:20260301T170000
DTSTAMP:20260419T161643
CREATED:20251217T125900Z
LAST-MODIFIED:20251217T130908Z
UID:4894-1772265600-1772384400@3.79.91.123
SUMMARY:RG Ticino (28 Feb.- 01 Mar.)\, Biasca
DESCRIPTION:
URL:http://3.79.91.123/event/rg-ticino-28-feb-01-mar-biasca/
CATEGORIES:Regionale Wettkämpfe
END:VEVENT
BEGIN:VEVENT
DTSTART;VALUE=DATE:20260307
DTEND;VALUE=DATE:20260309
DTSTAMP:20260419T161643
CREATED:20250703T121214Z
LAST-MODIFIED:20251217T194814Z
UID:4344-1772841600-1773014399@3.79.91.123
SUMMARY:Frühlings Cup (7-8 Marz)\, Domat/Ems
DESCRIPTION:
URL:http://3.79.91.123/event/fruhlingscup-domat-ems/
LOCATION:Sporthalle Vial\, Reichenauerstrasse\, Domat/Ems\, 7013\, Switzerland
CATEGORIES:Regionale Wettkämpfe
END:VEVENT
BEGIN:VEVENT
DTSTART;VALUE=DATE:20260321
DTEND;VALUE=DATE:20260323
DTSTAMP:20260419T161643
CREATED:20250703T121152Z
LAST-MODIFIED:20251217T190510Z
UID:4342-1774051200-1774223999@3.79.91.123
SUMMARY:Glarner Cup (21-22 März)\, Glarus
DESCRIPTION:
URL:http://3.79.91.123/event/glarner-cup-glarus/
CATEGORIES:Regionale Wettkämpfe
END:VEVENT
END:VCALENDAR