BEGIN:VCALENDAR
VERSION:2.0
PRODID:-//RG Zug - ECPv6.14.0//NONSGML v1.0//EN
CALSCALE:GREGORIAN
METHOD:PUBLISH
X-WR-CALNAME:RG Zug
X-ORIGINAL-URL:http://3.79.91.123
X-WR-CALDESC:Events for RG Zug
REFRESH-INTERVAL;VALUE=DURATION:PT1H
X-Robots-Tag:noindex
X-PUBLISHED-TTL:PT1H
BEGIN:VTIMEZONE
TZID:UTC
BEGIN:STANDARD
TZOFFSETFROM:+0000
TZOFFSETTO:+0000
TZNAME:UTC
DTSTART:20250101T000000
END:STANDARD
END:VTIMEZONE
BEGIN:VTIMEZONE
TZID:Europe/Helsinki
BEGIN:DAYLIGHT
TZOFFSETFROM:+0200
TZOFFSETTO:+0300
TZNAME:EEST
DTSTART:20250330T010000
END:DAYLIGHT
BEGIN:STANDARD
TZOFFSETFROM:+0300
TZOFFSETTO:+0200
TZNAME:EET
DTSTART:20251026T010000
END:STANDARD
BEGIN:DAYLIGHT
TZOFFSETFROM:+0200
TZOFFSETTO:+0300
TZNAME:EEST
DTSTART:20260329T010000
END:DAYLIGHT
BEGIN:STANDARD
TZOFFSETFROM:+0300
TZOFFSETTO:+0200
TZNAME:EET
DTSTART:20261025T010000
END:STANDARD
END:VTIMEZONE
BEGIN:VEVENT
DTSTART;VALUE=DATE:20260425
DTEND;VALUE=DATE:20260427
DTSTAMP:20260419T212337
CREATED:20250703T122626Z
LAST-MODIFIED:20251217T124421Z
UID:4356-1777075200-1777247999@3.79.91.123
SUMMARY:Einzel Jugend P2\, P3 / Gruppen G2 (25-26 April)\, Payerne
DESCRIPTION:
URL:http://3.79.91.123/event/einzel-jugend-p2-p3-gruppen-g2-2/
CATEGORIES:Nationale Wettkämpfe 2. Qualifikation
END:VEVENT
BEGIN:VEVENT
DTSTART;VALUE=DATE:20260328
DTEND;VALUE=DATE:20260329
DTSTAMP:20260419T212337
CREATED:20250703T122411Z
LAST-MODIFIED:20251217T193927Z
UID:4353-1774656000-1774742399@3.79.91.123
SUMMARY:Einzel Juniorinnen P4\, P5\, P6 / Gruppen G1\, G3\, G4 (28-29 March)\, Basel
DESCRIPTION:
URL:http://3.79.91.123/event/einzel-jugend-p2-p3-gruppen-g2/
CATEGORIES:Nationale Wettkämpfe 1. Qualifikation
END:VEVENT
BEGIN:VEVENT
DTSTART;VALUE=DATE:20260321
DTEND;VALUE=DATE:20260323
DTSTAMP:20260419T212337
CREATED:20250703T121152Z
LAST-MODIFIED:20251217T190510Z
UID:4342-1774051200-1774223999@3.79.91.123
SUMMARY:Glarner Cup (21-22 März)\, Glarus
DESCRIPTION:
URL:http://3.79.91.123/event/glarner-cup-glarus/
CATEGORIES:Regionale Wettkämpfe
END:VEVENT
BEGIN:VEVENT
DTSTART;VALUE=DATE:20260307
DTEND;VALUE=DATE:20260309
DTSTAMP:20260419T212337
CREATED:20250703T121214Z
LAST-MODIFIED:20251217T194814Z
UID:4344-1772841600-1773014399@3.79.91.123
SUMMARY:Frühlings Cup (7-8 Marz)\, Domat/Ems
DESCRIPTION:
URL:http://3.79.91.123/event/fruhlingscup-domat-ems/
LOCATION:Sporthalle Vial\, Reichenauerstrasse\, Domat/Ems\, 7013\, Switzerland
CATEGORIES:Regionale Wettkämpfe
END:VEVENT
BEGIN:VEVENT
DTSTART;TZID=Europe/Helsinki:20260228T080000
DTEND;TZID=Europe/Helsinki:20260301T170000
DTSTAMP:20260419T212337
CREATED:20251217T125900Z
LAST-MODIFIED:20251217T130908Z
UID:4894-1772265600-1772384400@3.79.91.123
SUMMARY:RG Ticino (28 Feb.- 01 Mar.)\, Biasca
DESCRIPTION:
URL:http://3.79.91.123/event/rg-ticino-28-feb-01-mar-biasca/
CATEGORIES:Regionale Wettkämpfe
END:VEVENT
BEGIN:VEVENT
DTSTART;VALUE=DATE:20260124
DTEND;VALUE=DATE:20260126
DTSTAMP:20260419T212337
CREATED:20250703T121128Z
LAST-MODIFIED:20251217T194327Z
UID:4340-1769212800-1769385599@3.79.91.123
SUMMARY:Winter Cup Ems (24 - 25 Januar)\, Domat/Ems
DESCRIPTION:
URL:http://3.79.91.123/event/wintercup-ems/
LOCATION:Sporthalle Vial\, Reichenauerstrasse\, Domat/Ems\, 7013\, Switzerland
CATEGORIES:Regionale Wettkämpfe
END:VEVENT
BEGIN:VEVENT
DTSTART;VALUE=DATE:20251220
DTEND;VALUE=DATE:20251221
DTSTAMP:20260419T212337
CREATED:20250703T115952Z
LAST-MODIFIED:20251217T195023Z
UID:4329-1766188800-1766275199@3.79.91.123
SUMMARY:Weihnachtsshow (20 Dez)\, Zug
DESCRIPTION:
URL:http://3.79.91.123/event/weihnachtsshow/
LOCATION:Bosshard Arena\, General Guisan Strasse 4\, Zug\, 6303\, Switzerland
CATEGORIES:Interne Anlässe
END:VEVENT
BEGIN:VEVENT
DTSTART;TZID=Europe/Helsinki:20251121T080000
DTEND;TZID=Europe/Helsinki:20251121T170000
DTSTAMP:20260419T212337
CREATED:20251217T191413Z
LAST-MODIFIED:20251217T191413Z
UID:4910-1763712000-1763744400@3.79.91.123
SUMMARY:Winter Cup (21-22 Nov)\, Leverkusen - Germany
DESCRIPTION:
URL:http://3.79.91.123/event/winter-cup-21-22-nov-leverkusen-germany/
CATEGORIES:Internationale Wettkämpfe
END:VEVENT
BEGIN:VEVENT
DTSTART;TZID=Europe/Helsinki:20251101T080000
DTEND;TZID=Europe/Helsinki:20251101T170000
DTSTAMP:20260419T212337
CREATED:20251217T191254Z
LAST-MODIFIED:20251217T191254Z
UID:4907-1761984000-1762016400@3.79.91.123
SUMMARY:2nd Forza Golden Cup Belgium (1 - 2 Nov)\, Belgium
DESCRIPTION:
URL:http://3.79.91.123/event/2nd-forza-golden-cup-belgium-1-2-nov-belgium/
CATEGORIES:Internationale Wettkämpfe
END:VEVENT
BEGIN:VEVENT
DTSTART;VALUE=DATE:20250628
DTEND;VALUE=DATE:20250630
DTSTAMP:20260419T212337
CREATED:20250703T120412Z
LAST-MODIFIED:20250707T114827Z
UID:4333-1751068800-1751241599@3.79.91.123
SUMMARY:Internen Wettkampf RG Zürichsee/Zürich & RG Zug (28-29 Juni)
DESCRIPTION:
URL:http://3.79.91.123/event/internen-wettkampf-rg-zurichsee-zurich-rg-zug/
CATEGORIES:Interne Anlässe
END:VEVENT
END:VCALENDAR