BEGIN:VCALENDAR
VERSION:2.0
PRODID:-//RG Zug - ECPv6.14.0//NONSGML v1.0//EN
CALSCALE:GREGORIAN
METHOD:PUBLISH
X-ORIGINAL-URL:http://3.79.91.123
X-WR-CALDESC:Events for RG Zug
REFRESH-INTERVAL;VALUE=DURATION:PT1H
X-Robots-Tag:noindex
X-PUBLISHED-TTL:PT1H
BEGIN:VTIMEZONE
TZID:UTC
BEGIN:STANDARD
TZOFFSETFROM:+0000
TZOFFSETTO:+0000
TZNAME:UTC
DTSTART:20260101T000000
END:STANDARD
END:VTIMEZONE
BEGIN:VTIMEZONE
TZID:Europe/Helsinki
BEGIN:DAYLIGHT
TZOFFSETFROM:+0200
TZOFFSETTO:+0300
TZNAME:EEST
DTSTART:20260329T010000
END:DAYLIGHT
BEGIN:STANDARD
TZOFFSETFROM:+0300
TZOFFSETTO:+0200
TZNAME:EET
DTSTART:20261025T010000
END:STANDARD
END:VTIMEZONE
BEGIN:VEVENT
DTSTART;VALUE=DATE:20260606
DTEND;VALUE=DATE:20260707
DTSTAMP:20260421T090313
CREATED:20250703T121242Z
LAST-MODIFIED:20251217T190659Z
UID:4346-1780704000-1783382399@3.79.91.123
SUMMARY:Zürcher Kantonalmeisterschaften ZHKM (6-7 Juni)\, Zürich
DESCRIPTION:
URL:http://3.79.91.123/event/zurcher-kantonalmeisterschaften-zhkm/
CATEGORIES:Regionale Wettkämpfe
END:VEVENT
BEGIN:VEVENT
DTSTART;VALUE=DATE:20260627
DTEND;VALUE=DATE:20260628
DTSTAMP:20260421T090313
CREATED:20250703T121259Z
LAST-MODIFIED:20251217T191055Z
UID:4348-1782518400-1782604799@3.79.91.123
SUMMARY:Zürcher Nachwuchswettkampf NWWK (27 Juni)\, Rafz
DESCRIPTION:
URL:http://3.79.91.123/event/zurcher-nachwuchswettkampf-nwwk/
CATEGORIES:Regionale Wettkämpfe
END:VEVENT
BEGIN:VEVENT
DTSTART;VALUE=DATE:20260628
DTEND;VALUE=DATE:20260629
DTSTAMP:20260421T090313
CREATED:20251217T125220Z
LAST-MODIFIED:20251217T125220Z
UID:4891-1782604800-1782691199@3.79.91.123
SUMMARY:Internen Wettkampf RG Zürichsee & RG Zug (28 Juni)\, Zug
DESCRIPTION:
URL:http://3.79.91.123/event/internen-wettkampf-rg-zurichsee-rg-zug-28-juni-zug/
CATEGORIES:Interne Anlässe
END:VEVENT
END:VCALENDAR